Workbook

Sheet TỔNG HỢP
A1: Dự toán đầu tư trường LLT Phase 2
A2: Năm 2018 | B2: Nghề Quản trị mạng | C2: ='Năm 2018'!L73 -> 13694050000
B3: Nghề Ô tô | C3: ='Năm 2018'!L202 -> 30202761000
B4: Nghề điện công nghiệp | C4: ='Năm 2018'!L360 -> 19947000000
A5: Tổng 2018 | C5: =SUM(C2:C4) -> 63843811000
A6: Năm 2019 | B6: Nghề ô tô | C6: ='Năm 2019'!M53 -> 22513165800
B7: Nghề Cơ khí | C7: ='Năm 2019'!M82 -> 26310362000
B8: Nghề Cơ điện tử | C8: ='Năm 2019'!M158 -> 2.1283692e+10
A9: Tổng năm 2019 | C9: =SUM(C6:C8) -> 7.0107219e+10
A10: Năm 2020 | B10: Nghề điện công nghiệp | C10: ='Năm 2020'!L161 -> 7.0081616e+09
B11: Nghề Ô tô | C11: ='Năm 2020'!L173 -> 17953000000
B12: Nghề Cơ khí | C12: ='Năm 2020'!L285 -> 2.0248201e+10
A13: Tổng năm 2020 | C13: =SUM(C10:C12) -> 4.5209362e+10
A14: Tổng | C14: =SUM(C5,C9,C13) -> 179160392700

Sheet Năm 2018
A1: UBND THÀNH PHỐ HỒ CHÍ MINH TRƯỜNG CAO ĐẲNG LÝ TỰ TRỌNG THÀNH PHỐ HỒ CHÍ MINH | J1: CỘNG HÒA XÃ HỘI CHỦ NGHĨA VIỆT NAM Độc lập - tự do - Hạnh phúc
A2: DANH MỤC THIẾT BỊ ĐỀ NGHỊ ĐẦU TƯ NĂM 2018
A3: STT | B3: Danh mục thiết bị | C3: Model | D3: Xuất xứ | E3: ĐVT | F3: Sử dụng giảng dạy chung (Đánh dấu X) | G3: SL yêu cầu để đáp ứng quy mô đào tạo hiện tại | H3: Số lượng thiết bị hiện tại | I3: Đánh giá việc đáp ứng theo quy mô đào tạo tại thời điểm báo cáo (Đủ ghi: X; không đủ: 0) | J3: Số lượng | K3: Đơn giá | L3: Thành tiền | M3: Thuyết minh
A4: -1 | B4: -2 | C4: -3 | D4: -4 | E4: -5 | F4: -6 | G4: -7 | H4: -8 | I4: -9 | J4: (10)=(7)-(8) | K4: -11 | L4: -12 | M4: -13
A5: DANH MỤC THIẾT BỊ NGHỀ QUẢN TRỊ MẠNG MÁY TÍNH
A6: 1 | B6: Firewall Cisco | C6: ASA5525-K9 | D6: Châu á | E6: cái | H6: 0 | J6: 10 | K6: 206885000 | L6: =K6*J6 -> 2068850000
B7: ASA 5525-X with SW, 8GE Data, 1GE Mgmt, AC, 3DES/AES
B8: SNTC-8X5XNBD ASA 5525-X with SW,
B9: AC Power Cord (Europe), C13, CEE 7, 1.5M
B10: Cisco ASA 9.8.2 Software image for ASA Spyker/Saleen
B11: ASA 5525-X Interface Card Blank Slot Cover
B12: ASA 5512-X -- 5555-X Hard Drive Blank Slot Cover
B13: ASA 5525 IPS Part Number with which PCB Serial is associated
B14: ASA 5500 Strong Encryption License (3DES/AES)
A15: 2 | B15: ROUTER CISCO | C15: ISR4331-V/K9 | D15: Châu á | E15: cái | H15: 0 | J15: 10 | K15: 115000000 | L15: =K15*J15 -> 1150000000
B16: Cisco ISR 4331 UC Bundle, PVDM4-32, UC License, CUBEE10
B17: SNTC-8X5XNBD Cisco ISR 4331 UC Bundle, PVDM4-32, UC L
B18: IP Base License for Cisco ISR 4330 Series
B19: Unified Communication License for Cisco ISR 4330 Series
B20: AC Power Supply for Cisco ISR 4330
B21: AC Power Cord (Europe), C13, CEE 7, 1.5M
B22: 32-channel DSP module
B23: 4G Flash Memory for Cisco ISR 4300 (Soldered on motherboard)
B24: 4G DRAM (1 x 4G) for Cisco ISR 4300
B25: Blank faceplate for NIM slot on Cisco ISR 4400
B26: Unified Border Element Enterprise License - 5 sessions
B27: SWSS UPGRADES Unified Border Element Enterprise Licens
... B29: Cisco ISR 4300 Series IOS XE Universal
A30: 3 | B30: ROUTER CISCO - Hiệu suất cao | C30: ASR1002-X | D30: Châu á | E30: cái | H30: 0 | J30: 4 | K30: 770000000 | L30: =K30*J30 -> 3080000000
B31: Cisco ASR1002-X Chassis, 6 built-in GE, Dual P/S, 4GB DRAM
B32: ASR1K-other applications for Enterprise or SP- Tracking only
B33: Cisco ASR 1000 Advanced IP Services License
B34: Cisco ASR1002-X 4GB DRAM
B35: Blank Cover for regular SPA
B36: Blank Cover for ASR1002-X HDD
B37: Cisco ASR1002-X IOS XE UNIVERSAL
B38: Cisco ASR1002 AC Power Supply
B39: Power Cord Europe, Right Angle
A40: 4 | B40: Switch CISCO | C40: WS-C2960X-24TS-L | D40: Châu á | E40: cái | H40: 0 | J40: 10 | K40: 55085000 | L40: =K40*J40 -> 550850000
B41: Catalyst 2960-X 24 GigE, 4 x 1G SFP, LAN Base
B42: SNTC-8X5XNBD Catalyst 2960-X 24 GigE, 4 x 1G SFP, LAN
B43: AC Power Cord (Europe), C13, CEE 7, 1.5M
A44: 5 | B44: Switch CISCO - Hiệu suất cao | C44: ASR-920-24SZ-M | D44: Châu á | E44: cái | H44: 0 | J44: 10 | K44: 138000000 | L44: =K44*J44 -> 1380000000
B45: Cisco ASR920 Series - 24GE Fiber and 4-10GE : Modular PSU
B46: SNTC-8X5XNBD Cisco ASR920 Series - 24GE Fiber and 4-1
B47: ASR 900 USB Console Cabling Kit
B48: Cisco ASR 920 Series IOS XE UNIVERSAL -NO PAYLOAD ENCRYPTION
B49: Cisco ASR920 Series - Metro IP Access
B50: SNTC-8X5XNBD Cisco ASR920 Series
B51: ASR 920 AC Power Supply
B52: Power Cord - Europe, 16/10A,250V, 2500mm, -40C to +85C
B53: EIA 19in Rack mount Option for the Cisco ASR 920
B54: ASR 920 Cable Guide
B55: ASR 920 Fan for Fixed Chassis
B56: ASR 920 Power Supply Blank Cover
A57: 6 | B57: Wireless​​​​​​​ Cisco Aironet AP3802I | C57: AIR-AP3802I-S-K9 | D57: Châu á | E57: cái | H57: 0 | J57: 10 | K57: 38985000 | L57: =K57*J57 -> 389850000
B58: 802.11ac W2 AP w/CA; 4x4:3; Mod; Int Ant; mGig S Domain
B59: SNTC-8X5XNBD 802.11ac W2 AP w/CA; 4x43; Mod; Int Ant;
B60: Ceiling Grid Clip for Aironet APs - Recessed Mount (Default)
B61: 802.11n AP Low Profile Mounting Bracket (Default)
B62: Cisco Aironet 3800 Series CAPWAP Software Image
A63: 7 | B63: Cisco IP phone CP-8945-K9 | C63: CP-8845-K9 | D63: Châu á | E63: cái | H63: 0 | J63: 20 | K63: 13225000 | L63: =K63*J63 -> 264500000
B64: Cisco IP Phone 8845
B65: SNTC-8X5XNBD Cisco IP Phone 8845
A66: 8 | B66: Tủ mạng rack 19 | D66: Châu á | E66: cái | H66: 0 | J66: 10 | K66: 18000000 | L66: =K66*J66 -> 180000000
A67: 9 | B67: Máy tính | C67: X2640G | D67: Châu á | E67: Bộ | H67: 0 | J67: 100 | K67: 25000000 | L67: =K67*J67 -> 2500000000
A68: 10 | B68: Máy chủ | D68: Châu Á | E68: Bộ | H68: 0 | J68: 2 | K68: 700000000 | L68: =K68*J68 -> 1400000000
A69: 11 | B69: Microsoft Office Professional 2016 | C69: Microsoft | H69: 0 | J69: 100 | K69: 3000000 | L69: =K69*J69 -> 300000000
A70: 12 | B70: Máy chiếu + màn chiếu | H70: 0 | J70: 5 | K70: 28000000 | L70: =K70*J70 -> 140000000
A71: 13 | B71: Máy lạnh | H71: 0 | J71: 5 | K71: 18000000 | L71: =K71*J71 -> 90000000
A72: 14 | B72: Ổ lưu trữ mạng -NAS | H72: 0 | J72: 5 | K72: 40000000 | L72: =K72*J72 -> 200000000
B73: TỔNG CỘNG | L73: =SUM(L6:L72) -> 13694050000
A74: DANH MỤC THIẾT BỊ NGHỀ Ô TÔ
A75: TT | B75: Danh mục thiết bị | C75: Model | D75: Xuất xứ | E75: ĐVT | J75: SL | K75: Đơn giá | L75: Thành tiền
A76: I | B76: PHÒNG THỰC HÀNH ĐIỆN ĐIỆN TỬ CHO NGÀNH Ô TÔ | L76: =SUM(L77:L90) -> 20139200000
A77: 1 | B77: Bộ giao diện thực hành với các thiết bị đo ảo | C77: CO4203-2A | D77: Đức | E77: Bộ | J77: 8 | K77: 280000000 | L77: =J77*K77 -> 2240000000
A78: 2 | B78: Bộ thực hành UniTrain. | C78: CO4203-2B | D78: Đức | E78: Bộ | J78: 16 | K78: 35000000 | L78: =J78*K78 -> 560000000
A79: 3 | B79: Phụ kiện đo lường, kết nối UniTrain-I. | C79: SO4203-2J | D79: Đức | E79: Bộ | J79: 8 | K79: 18500000 | L79: =J79*K79 -> 148000000
A80: 4 | B80: Phần mềm quản lý bài tập đa phương tiện. | C80: SO2001-5A | D80: Đức | E80: PM | J80: 2 | K80: 642000000 | L80: =J80*K80 -> 1284000000
A81: 5 | B81: Bài thực hành Động lực 1: "Mạch DC và AC trong ngành ô tô ". | C81: CO4204-7A | D81: Đức | E81: Bộ | J81: 8 | K81: 112000000 | L81: =J81*K81 -> 896000000
A82: 6 | B82: Bài thực hành Động lực 2: Mạch điện tử và kỹ thuật số dùng trong ngành ô tô. | C82: SO4204-7B | D82: Đức | E82: Bộ | J82: 8 | K82: 128800000 | L82: =J82*K82 -> 1030400000
A83: 7 | B83: Bài thực hành Động lực16: Chuyển đổi điện một chiều và xoay chiều DC-AC trong ô tô. | C83: SO4204-6L | D83: Đức | E83: Bộ | J83: 8 | K83: 69500000 | L83: =J83*K83 -> 556000000
A84: 8 | B84: Bài thực hành Động lực 4: Mạch phát điện 3 pha trong ô tô. | C84: SO4204-7D | D84: Đức | E84: Bộ | J84: 8 | K84: 200500000 | L84: =J84*K84 -> 1604000000
A85: 9 | B85: Bài thực hành Động lực 10: Phương thức truyền dẩn CAN trong ô tô., điều khiển cửa ô tô Golf V , kết nối CAN , cửa hông, kính, . và nguồn điện 13.5V/ 35A | C85: SO4204-7K SO3216-2Y CO3216-1C | D85: Đức | E85: Bộ | J85: 8 | K85: 953000000 | L85: =J85*K85 -> 7624000000
A86: 10 | B86: Bài thực hành Động lực 6: Cảm biến trong ô tô | C86: SO4204-7F | D86: Đức | E86: Bộ | J86: 8 | K86: 425000000 | L86: =J86*K86 -> 3400000000
A87: 11 | B87: Bơm tạo áp suất cầm tay. | C87: LM8213 | D87: Đức | E87: Cái | J87: 8 | K87: 34600000 | L87: =J87*K87 -> 276800000
A88: 12 | B88: Đồng hồ đo vạn năng số Multi13S . | C88: LM2330 | D88: Đức | E88: Cái | J88: 8 | K88: 16800000 | L88: =J88*K88 -> 134400000
A89: 13 | B89: Bàn thực hành chuyên dụng cho bộ Unitrain I | D89: VN | E89: Chiếc | J89: 8 | K89: 12000000 | L89: =J89*K89 -> 96000000
A90: 14 | B90: Máy tính chuyên dụng + HĐH bản quyền | D90: Châu Á | E90: Bộ | J90: 8 | K90: 36200000 | L90: =J90*K90 -> 289600000
A91: II | B91: PHÒNG CHẨN ĐOÁN SỬA CHỮA KHUNG GẦM Ô TÔ | L91: =SUM(L92:L135) -> 4342140000
A92: 1 | B92: Tủ dụng cụ | E92: Cái | J92: 5 | K92: 85000000 | L92: =K92*J92 -> 425000000
A93: 2 | B93: Dụng cụ châm dầu, dung tích bình chứa :400cc | E93: Cái | J93: 5 | K93: 2195000 | L93: =K93*J93 -> 10975000
A94: 3 | B94: Bộ dụng cụ cảo 3 chấu cở nhỏ | E94: Bộ | J94: 5 | K94: 9293000 | L94: =K94*J94 -> 46465000
A95: 4 | B95: Bộ dụng cụ cảo 3 chấu cở tung bình. | E95: Bộ | J95: 5 | K95: 17269000 | L95: =K95*J95 -> 86345000
A96: 5 | B96: Dụng cụ cảo hai chấu cở nhỏ | E96: Cái | J96: 5 | K96: 12074000 | L96: =K96*J96 -> 60370000
A97: 6 | B97: Bộ dụng cụ sắp thằng bố li hợp | E97: Bộ | J97: 2 | K97: 7683000 | L97: =K97*J97 -> 15366000
A98: 7 | B98: Súng vặn bu long 1/2 | E98: Cái | J98: 5 | K98: 13328000 | L98: =K98*J98 -> 66640000
A99: 8 | B99: Bộ kim mở phe bung thẳng | E99: Bộ | J99: 5 | K99: 1903000 | L99: =K99*J99 -> 9515000
A100: 9 | B100: Bộ kim mở phe bóp vào thẳng | E100: Bộ | J100: 5 | K100: 1903000 | L100: =K100*J100 -> 9515000
A101: 10 | B101: Bộ kim mở phe Bung cong 90 | E101: Bộ | J101: 5 | K101: 1903000 | L101: =K101*J101 -> 9515000
...

Sheet Năm 2019
A1: UBND THÀNH PHỐ HỒ CHÍ MINH TRƯỜNG CAO ĐẲNG LÝ TỰ TRỌNG THÀNH PHỐ HỒ CHÍ MINH | K1: CỘNG HÒA XÃ HỘI CHỦ NGHĨA VIỆT NAM Độc lập - tự do - Hạnh phúc
A2: DANH MỤC THIẾT BỊ ĐỀ NGHỊ ĐẦU TƯ NĂM 2019
A3: TT | B3: Danh mục thiết bị | C3: Model | D3: Xuất xứ | E3: ĐVT | F3: Sử dụng giảng dạy chung (Đánh dấu X) | G3: SL yêu cầu để đáp ứng quy mô đào tạo hiện tại | H3: Số lượng thiết bị hiện tại | I3: SL yêu cầu để đáp ứng quy mô đào tạo hiện tại | J3: Đánh giá việc đáp ứng theo quy mô đào tạo tại thời điểm báo cáo (Đủ ghi: X; không đủ: 0) | K3: Số lượng | L3: Đơn giá | M3: Thành tiền | N3: Thuyết minh
A4: -1 | B4: -2 | C4: -3 | D4: -4 | E4: -5 | F4: -6 | G4: -7 | H4: -8 | I4: -7 | J4: -9 | K4: (10)=(7)-(8) | L4: -11 | M4: -12 | N4: -13
A5: NGHỀ Ô TÔ
B6: PHÒNG CHẨN ĐOÁN SỬA CHỮA ĐỘNG CƠ XĂNG DẦU | M6: =SUM(M7:M52) -> 22513165800
A7: 1 | B7: Động cơ phun xăng điện tử đa điểm, sử dụng cảm biến dây nhiệt, hoạt động | D7: VN | E7: Cái | K7: 2 | L7: 271856200 | M7: =K7*L7 -> 543712400
A8: 2 | B8: Động cơ phun xăng trực tiếp - Động cơ xăng dùng thực tập tháo lắp, có giá tháo lắp năm 2012 | D8: VN | E8: Cái | K8: 2 | L8: 2.058562e+08 | M8: =K8*L8 -> 4.117124e+08
A9: 3 | B9: Mô hình điều khiển động cơ Toyota 2.0L I4 1TR-FE VVT-I. đời 2010 mô hình kèm theo hộp số | D9: VN | E9: MH | K9: 2 | L9: 298570800 | M9: =K9*L9 -> 597141600
A10: 4 | B10: Mô hình điều khiển động cơ Huydai Santafe đời 2009 mô hình kèm theo hộp số | D10: VN | E10: MH | K10: 2 | L10: 3.928562e+08 | M10: =K10*L10 -> 7.857124e+08
A11: 5 | B11: Máy nén khí 5.5Hp/500L | E11: Cái | K11: 1 | L11: 120000000 | M11: =K11*L11 -> 120000000
A12: 6 | B12: Máy phân tích, kiểm tra, chẩn đoán động cơ tổng hợp | C12: LM8264E | D12: Đức | E12: Cái | K12: 2 | L12: 640000000 | M12: =K12*L12 -> 1280000000
A13: 7 | B13: Bộ thực hành đo lường cơ điện xưởng cơ khí ô tô, có bổ sung các thiết bị đo nhiệt độ, độ rung, áp suất..cầm tay | D13: EU | E13: Bộ | K13: 1 | L13: 3280000000 | M13: =K13*L13 -> 3280000000
A14: 8 | B14: Thiết bị kiểm tra và phân tích khí xả động cơ xăng | D14: HQ | E14: Bộ | K14: 2 | L14: 90000000 | M14: =K14*L14 -> 180000000
A15: 9 | B15: Mô hình hệ thống điện ôtô đời mới kiểu Toyota Innova. | D15: VN | E15: MH | K15: 2 | L15: 245000000 | M15: =K15*L15 -> 490000000
A16: 10 | B16: Thiết bị đào tạo vận hành, chẩn đoán động cơ Diesel 4 xylanh dùng bơm PE , họat động tốt ở các chế độ, sử dụng bơm PE | D16: VN | E16: MH | K16: 2 | L16: 116800000 | M16: =K16*L16 -> 233600000
A17: 11 | B17: Thiết bị đào tạo vận hành, chẩn đoán động cơ Diesel 4 xylanh dùng bơm VE kèm theo hộp số | D17: VN | E17: MH | K17: 2 | L17: 1.155e+08 | M17: =K17*L17 -> 2.31e+08
A18: 12 | B18: Tủ dụng cụ và dụng cụ sửa chữa. | D18: Đức | E18: Cái | K18: 8 | L18: 85000000 | M18: =K18*L18 -> 680000000
A19: 13 | B19: Mô phỏng hệ thống động cơ phun xăng điện tử kết nối máy tính. CarTrain Direct Fuel Injection. | C19: CO3221-6G | D19: Đức | E19: Bộ | K19: 1 | L19: 4230000000 | M19: =K19*L19 -> 4230000000
A20: 14 | B20: Mô hình động cơ Hybird | C20: CO3221-6K | D20: Đức | E20: MH | K20: 1 | L20: 4196000000 | M20: =K20*L20 -> 4196000000
A21: 15 | B21: Hệ thống thiết bị thí nghiệm về động cơ diezen, CarTrain Common Rail. | C21: CO3221-6E | D21: Đức | E21: HT | K21: 1 | L21: 3945000000 | M21: =K21*L21 -> 3945000000
A22: 16 | B22: Thí nghiệm về động cơ phun xăng | D22: VN | E22: HT | K22: 4 | L22: 98000000 | M22: =K22*L22 -> 392000000
A23: 17 | B23: Dụng cụ lắp séc măng 3", Kích thước :70-100mm | E23: Cái | K23: 5 | L23: 10098000 | M23: =L23*K23 -> 50490000
A24: 18 | B24: Dụng cụ lắp séc măng 6", Kích thước :90-175mm | E24: Cái | K24: 5 | L24: 3677000 | M24: =L24*K24 -> 18385000
A25: 19 | B25: Dụng cụ tháo séc măng, kích thước 50-100mm | E25: Cái | K25: 5 | L25: 3073000 | M25: =L25*K25 -> 15365000
A26: 20 | B26: Dụng cụ ép lo xo supap xupap | E26: Cái | K26: 5 | L26: 7683000 | M26: =L26*K26 -> 38415000
A27: 21 | B27: Dụng cụ tháo móng gài xupap ở trên không cần tháo nắp máy | E27: Cái | K27: 2 | L27: 6951000 | M27: =L27*K27 -> 13902000
A28: 22 | B28: Dụng cụ tháo lọc nhớt | E28: Cái | K28: 5 | L28: 3512000 | M28: =L28*K28 -> 17560000
A29: 23 | B29: Dụng cụ Làm sạch chân bình điện | E29: Cái | K29: 2 | L29: 1463000 | M29: =L29*K29 -> 2926000
A30: 24 | B30: Dụng cụ taro lại ren Bugi | E30: Cái | K30: 2 | L30: 27879000 | M30: =L30*K30 -> 55758000
A31: 25 | B31: Bộ tuýp tháo Bugi chuyên dùng, đường kính : 21mm +16mm, bao gồm 2 chi tiết | E31: Cái | K31: 2 | L31: 732000 | M31: =L31*K31 -> 1464000
A32: 26 | B32: Dụng cụ đo lực căng dây đai. | E32: Cái | K32: 2 | L32: 9931000 | M32: =L32*K32 -> 19862000
A33: 27 | B33: Bộ cảo chén đa năng | E33: Cái | K33: 2 | L33: 5415000 | M33: =L33*K33 -> 10830000
A34: 28 | B34: Dụng cụ cảo Ắc Piston | E34: Cái | K34: 2 | L34: 6720000 | M34: =L34*K34 -> 13440000
... A52: 46 | B52: Đồng hồ đo điện vạn năng dạng điện tử | E52: Cái | K52: 10 | L52: 13380000 | M52: =L52*K52 -> 133800000
A53: TỔNG CỘNG | M53: =SUM(M7:M52) -> 22513165800
A54: CƠ KHÍ CHẾ TẠO - PHÒNG THỰC HÀNH PHAY
A55: I | B55: MÁY CÔNG CỤ
A56: 1 | B56: Máy phay vạn năng FB3 | C56: FB-3 L | D56: EU | E56: Máy | K56: 2 | L56: 4080000000 | M56: =L56*K56 -> 8160000000
A57: 3 | B57: Máy phay CNC 3 trục Concept Mill | C57: CM 55 | D57: EU | E57: máy | K57: 1 | L57: 3865000000 | M57: =L57*K57 -> 3865000000
A58: 5 | B58: Máy phay CNC 5 trục | C58: MaxxMill 400 | D58: EU | E58: Máy | K58: 1 | L58: 9300000000 | M58: =L58*K58 -> 9300000000
A59: 6 | B59: Máy nén khí và Máy sấy khí nén | D59: Châu Á | E59: bộ | K59: 1 | L59: 265000000 | M59: =L59*K59 -> 265000000
A60: 7 | B60: Máy hút buị công nghiệp 3800W | D60: Châu Á | E60: Máy | K60: 1 | L60: 13500000 | M60: =L60*K60 -> 13500000
A61: 8 | B61: Máy mài dao | C61: ZB 160 | D61: UK | E61: Máy | K61: 1 | L61: 3300000000 | M61: =L61*K61 -> 3300000000
A62: 9 | B62: Máy khoan bàn | D62: Đài Loan | E62: Máy | K62: 1 | L62: 135000000 | M62: =L62*K62 -> 135000000
A63: 10 | B63: Máy mài phẳng | D63: Đài Loan | E63: Máy | K63: 1 | L63: 890000000 | M63: =L63*K63 -> 890000000
A64: II | B64: THIẾT BỊ ĐO LƯỜNG
A65: 1 | B65: Panme 0-25mm | C65: 103-137 | D65: G7 | E65: Bộ | K65: 5 | L65: 1250000 | M65: =L65*K65 -> 6250000
A66: 2 | B66: Panme 25-50mm | C66: 103-138 | D66: G7 | E66: Bộ | K66: 5 | L66: 1200000 | M66: =L66*K66 -> 6000000
A67: 3 | B67: Thước cặp 150, 1/50 | C67: 530-104 | D67: G7 | E67: Bộ | K67: 5 | L67: 1280000 | M67: =L67*K67 -> 6400000
A68: 4 | B68: Đế từ Đồng hồ so (10mm,1/10) | C68: 7011S-10 | D68: G7 | E68: Bộ | K68: 5 | L68: 1350000 | M68: =L68*K68 -> 6750000
A69: 5 | B69: Thước lá 0-500mm | C69: 182-307 | D69: G7 | E69: Cái | K69: 5 | L69: 1000000 | M69: =L69*K69 -> 5000000
A70: 6 | B70: Tủ dụng cụ | D70: Đức | E70: Cái | K70: 1 | L70: 35000000 | M70: =L70*K70 -> 35000000
A71: 7 | B71: Ê tô bàn | D71: Đài Loan | E71: Chiếc | K71: 3 | L71: 3432000 | M71: =L71*K71 -> 10296000
A72: 8 | B72: Ê tô bàn khoan | D72: Đài Loan | E72: Chiếc | K72: 3 | L72: 4312000 | M72: =L72*K72 -> 12936000
A73: 9 | B73: Ê tô máy phay | D73: Đài Loan | E73: Chiếc | K73: 3 | L73: 28700000 | M73: =L73*K73 -> 86100000
A74: 10 | B74: Mâm cặp 4 chấu | D74: Đài Loan | E74: Chiếc | K74: 3 | L74: 16720000 | M74: =L74*K74 -> 50160000
A75: 10 | B75: Mâm cặp 3 chấu | D75: Đài Loan | E75: Chiếc | K75: 3 | L75: 20790000 | M75: =L75*K75 -> 62370000
A76: 11 | B76: Dao phay góc mang cá 45độ Ø30mm | D76: Đài Loan | E76: Cái | K76: 5 | L76: 1750000 | M76: =L76*K76 -> 8750000
A77: 12 | B77: Dao phay ghép mảnh D32 C32-DM32-250 | D77: Đài Loan | E77: Cái | K77: 5 | L77: 2320000 | M77: =L77*K77 -> 11600000
A78: 13 | B78: Mãnh dao đi kèm dao phay trụ ghép mảnh CPMT120408 | D78: Đài Loan | E78: Hộp | K78: 5 | L78: 3872000 | M78: =L78*K78 -> 19360000
A79: 14 | B79: Dao phay trụ ghép mảnh D25 C25-DM25-220 | D79: Đài Loan | E79: Cái | K79: 5 | L79: 3630000 | M79: =L79*K79 -> 18150000
A80: 15 | B80: Mãnh dao đi kèm dao phay trụ ghép mảnh CPMT09308 | D80: Đài Loan | E80: Hộp | K80: 5 | L80: 4004000 | M80: =L80*K80 -> 20020000
A81: 16 | B81: Dao phay ngón Ø 4,6,8,10;12;16;20 | D81: Đài Loan | E81: Cái | K81: 5 | L81: 3344000 | M81: =L81*K81 -> 16720000
A82: TỔNG CỘNG | M82: =SUM(M56:M81) -> 26310362000
A83: DANH MỤC THIẾT BỊ PHÒNG THỰC HÀNH CƠ ĐIỆN TỬ
A84: 1 | B84: Thực hành PLC | D84: Đức | E84: Bộ
A85: 1.1 | B85: Thiết bị dùng chung cho các bài thí nghiệm lập trình PLC | D85: Đức | E85: Bộ | K85: 4 | L85: =8424.42857142857/0.35*28300 -> 6.8117522e+08 | M85: =L85*K85 -> 2.7247009e+09
B86: SIMATIC S7-314C 2DP, 24 DI, 16 DO, 4 AI, 2 AO, nguồn 24 V / 6 A | E86: Bộ | K86: 4
B87: Adapter PC và PCL-S7 bới bộ chuyển đổi USB/MPI | E87: Bộ | K87: 4
B88: Phần mềm huấn luyện 1x STEP 7, S7 Graph, S7 SLC, PLC Sim | E88: Bộ | K88: 4
B89: Bàn khung nhôm 3 mức, 1250x750x1955mm | E89: Bộ | K89: 4
B90: Máy tính để bàn, màn hình LCD | E90: Bộ | K90: 4
A91: 1.2 | B91: CLC 34 Mô phỏng các ứng dụng PLC thông dụng | D91: Đức | E91: Bộ | K91: 4 | L91: =4405.97142857143/0.35*28300 -> 3.5625426e+08 | M91: =L91*K91 -> 1.425017e+09
B92: Bộ mô phỏng ứng dụng tổng quát PLC | K92: 4
B93: Bộ mặt nạ cho bộ mô phỏng ứng dụng tổng quát PLC (12 pcs) | K93: 4
B94: Bộ mặt nạ cho bộ mô phỏng ứng dụng tổng quát PLC (12 pcs) | K94: 4
B95: Phần mềm trợ giúp tương tác: CLC 34 mô phỏng ứng dụng tổng quát | K95: 4
B96: Bộ dây nối cho hệ thống PLC | K96: 4
B97: Cáp nối an toàn 4mm 25cm màu đỏ | K97: 4
B98: Module kết nối hệ thống cho PLC | K98: 4
A99: 1.3 | B99: Điều khiển vòng kín mức/tỉ lệ lưu lượng chất lòng | D99: Đức | E99: Bộ | K99: 1 | L99: =4380.51428571429/0.35*28300 -> 3.5419587e+08 | M99: =L99*K99 -> 3.5419587e+08
B100: Kit điều khiển mức bao gồm bình chứa, bơm và các cảm biến | K100: 1
B101: Tài liệu IAC 10/11, kit điều khiển mức và lưu lượng với bộ điều khiển số | K101: 1
B102: Nguồn công suất DC ±15V/6A | K102: 1
B103: Đồng hồ đo digital Multi13S | K103: 1
B104: Đầu nối an toàn 4mm, màu đỏ | K104: 1
B105: Đầu nối an toàn 4mm, màu xanh dương | K105: 2
B106: Đầu nối an toàn 4mm, màu đen | K106: 3
B107: Bộ dây nối an toàn 4 mm (30 chiếc) | K107: 1
A108: 1.4 | B108: Model thang máy | D108: Đức | E108: Bộ | K108: 1 | L108: =10070.5/0.35*28300 -> 8.1427186e+08 | M108: =L108*K108 -> 8.1427186e+08
B109: Mô hình thang máy 3 tầng | K109: 1
B110: Module giao diện IMS cho PLC | K110: 1
B111: Cáp giao diện nối tiếp 25 chân, chân cắm sub-D | K111: 1
B112: Cáp giao diện nối tiếp 9/9 chân | K112: 1
B113: Tài liệu hướng dẫn CLC 40.2, Kỹ thuật điều khiển bằng model xử lý PLC chính xác | K113: 1
A114: 2 | B114: Mô hình đào tạo gia công sản phẩm tự động | C114: 195782 | D114: Châu Á | E114: MH | K114: 1 | L114: 1.010988e+09 | M114: 2.021976e+09
B115: Trạm MPS gia công hoàn chỉnh
B116: Chức năng: Trong trạm gia công, phôi được kiểm tra và gia công trên bàn quay phân độ. Trạm MPS này chỉ sử dụng các dẫn động điện. Bàn quay phân độ được dẫn động bằng động cơ một chiều. Bàn quay được điều khiển định vị bằng mạch rơ le với các vị trí xác định bằng cảm biến điện dung. Trên bàn quay phân độ, các phôi sẽ được kiểm tra và gia công khoan theo hai quy trình song song. Một đầu dò điện từ với cảm biến điện cảm đảm nhận nhiệm vụ xác định phôi đã đươc nạp vào đúng vị trí. Trong suốt quá trình khoan, phôi sẽ được kẹp chặt bằng cơ cấu dẫn động điện từ. Phôi sau khi được gia công xong sẽ đi qua cơ cấu gạt điện từ
B117: Sử dụng bộ điều khiển lập trình PLC S7- 1500
...

Sheet Năm 2020
A1: UBND THÀNH PHỐ HỒ CHÍ MINH TRƯỜNG CAO ĐẲNG LÝ TỰ TRỌNG THÀNH PHỐ HỒ CHÍ MINH | J1: CỘNG HÒA XÃ HỘI CHỦ NGHĨA VIỆT NAM Độc lập - tự do - Hạnh phúc
A2: DANH MỤC THIẾT BỊ ĐỀ NGHỊ ĐẦU TƯ NĂM 2020
A4: TT | B4: Danh mục thiết bị | C4: Model | D4: Xuất xứ | E4: ĐVT | F4: Sử dụng giảng dạy chung (Đánh dấu X) | G4: SL yêu cầu để đáp ứng quy mô đào tạo hiện tại | H4: Số lượng thiết bị hiện tại | I4: Đánh giá việc đáp ứng theo quy mô đào tạo tại thời điểm báo cáo (Đủ ghi: X; không đủ: 0) | J4: Số lượng | K4: Đơn giá | L4: Thành tiền | M4: Thuyết minh
A5: -1 | B5: -2 | C5: -3 | D5: -4 | E5: -5 | F5: -6 | G5: -7 | H5: -8 | I5: -9 | J5: (10)=(7)-(8) | K5: -11 | L5: -12 | M5: -13
A6: DANH MỤC THIẾT BỊ ĐIỆN CÔNG NGHIỆP
A7: 1 | B7: Bộ chuyển đổi truyền động điện tần số với các loại động cơ 300W khác nhau | D7: Đức | E7: Bộ | J7: 1 | K7: 2.287883e+09 | L7: =K7*J7 -> 2.287883e+09
A8: 1.1 | B8: Bộ chuyển đổi truyền động điện tần số với động cơ không đồng bộ ba pha 300W | D8: Đức | J8: 1
A9: + | B9: Mục tiêu đào tạo:
A10: + | B10: Khảo sát bộ nghịch đảo với điều khiển tần số và điện áp | D10: Đức
A11: + | B11: Khảo sát bộ nghịch đảo với sự biến điệu vec tơ không gian | D11: Đức
A12: + | B12: Phân tích tỉ lệ tần số và điện áp | D12: Đức
A13: + | B13: Bù điện kháng phần tĩnh | D13: Đức
A14: + | B14: Khảo sát truyền động nghịch đảo | D14: Đức
A15: + | B15: Thiết lập các tham số có sự trợ giúp của máy tính và hình ảnh động | D15: Đức
A16: + | B16: Thiết bị bao gồm: | D16: Đức
A17: a | B17: Động cơ không đồng bộ 3 pha, 0.3kW N=1400 (230/400V) (công nghiệp) | D17: Đức | E17: Chiếc | J17: 1
A18: b | B18: Phần mềm trợ giúp tương tác: Bộ chuyển đổi truyền động tần số | D18: Đức | E18: License | J18: 1
A19: 1.2 | B19: Bộ truyền động điện Servo, động cơ chuyển đổi điện tử 300W | D19: Đức | J19: 1
A20: + | B20: Mục tiêu đào tạo: | D20: Đức
A21: + | B21: Nguyên lý hoạt động của các động cơ servo với sự chuyển mạch điện tử hoặc các động cơ DC chổi than | D21: Đức
A22: + | B22: Phân tích sự biến điệu vector không gian đã được định hướng | D22: Đức
A23: + | B23: Khảo sát hệ thống cảm biến và tọa độ | D23: Đức
A24: + | B24: Thiết lập các tham số với sự trợ giúp của máy tính và các hình ảnh động | D24: Đức
A25: + | B25: Thiết bị bao gồm như sau: | D25: Đức
A26: a | B26: Động cơ servomotor đồng bộ 0.3kW | D26: Đức | E26: Chiếc | J26: 1
A27: b | B27: Bộ encoder vị trí tăng dần 1024 xung | D27: Đức | E27: Chiếc | J27: 1
A28: c | B28: Khớp che bảo vệ , trong suốt 0.1/0.3kW | D28: Đức | E28: Chiếc | J28: 1
A29: d | B29: Khớp nối cao su, 0.3kW | D29: Đức | E29: Chiếc | J29: 1
A30: e | B30: Phần mềm trợ giúp tương tác: động cơ servo, động cơ chuyển mạch điện tử | D30: Đức | E30: License | J30: 1
A31: 1.3 | B31: Bộ chuyển đổi truyền động điện động cơ DC 300W với bộ nghịch lưu | D31: Đức | J31: 1
A32: + | B32: Mục tiêu đào tạo: | D32: Đức
A33: + | B33: Điều khiển tốc độ vòng kín trong sự hoạt động 1 và 4 góc có và không có điều khiển dòng điện tầng | D33: Đức
A34: + | B34: Điều khiển tốc độ vòng hở trong chế độ hoạt động 1 góc với IGBT | D34: Đức
A35: + | B35: Điều khiển tốc độ vòng hở trong chế độ hoạt động 4 góc với IGBT | D35: Đức
A36: + | B36: Điều khiển tốc độ vòng kín, điều khiển dòng điện vòng kín, điều khiển tầng, điều khiển thích nghi | D36: Đức
A37: + | B37: Hệ thống được điều khiển và sự phân tích bộ điều khiển, thiết lập tham số với sự trợ giúp của máy tính | D37: Đức
A38: + | B38: Điều khiển P-, PI | D38: Đức
A39: + | B39: Sự tối ưu hóa bộ điều khiển | D39: Đức
A40: + | B40: Thiết bị bao gồm | D40: Đức
A41: a | B41: Máy điện DC đa mạch, kích từ hỗn hợp, 0.3kW (công nghiệp) | D41: Đức | E41: Chiếc | J41: 1
A42: b | B42: Đầu đo tốc độ 1V/1000rpm, 0.3kW | D42: Đức | E42: Chiếc | J42: 1
A43: c | B43: Khớp che bảo vệ , trong suốt 0.1/0.3kW | D43: Đức | E43: Chiếc | J43: 1
A44: d | B44: Khớp nối cao su, 0.3kW | D44: Đức | E44: Chiếc | J44: 1
A45: e | B45: Phần mềm trợ giúp tương tác | D45: Đức | E45: License | J45: 1
A46: f | B46: Phần mềm trợ giúp tương tác: Các mạch biến đổi Self-commutated | D46: Đức | E46: License | J46: 1
A47: 1.4 | B47: Thiết bị dùng chung cho các mục từ 1.1 đến 1.3 | D47: Đức | J47: 1
A48: 1.4.1 | B48: Thiết bị | D48: Đức | J48: 1
A49: a | B49: Các mạch chuyển đổi công suất Self-commutated | D49: Đức | E49: Chiếc | J49: 1
A50: b | B50: Máy biến áp cách lý ba pha 300VA | D50: Đức | E50: Chiếc | J50: 1
A51: c | B51: Bộ tải điện tử công suất, 300 W | D51: Đức | E51: Chiếc | J51: 1
A52: d | B52: Đồng hồ do analog/digtal, công suất, hệ số công suất bao gồm phần mềm | D52: Đức | E52: Chiếc | J52: 1
A53: e | B53: Bộ máy điện servo cho máy điện 0.3kW bao gồm phần mềm ActiveServo (D, GB, F, E) | D53: Đức | E53: Chiếc | J53: 1
A54: f | B54: Khớp nối cao su, 0.3kW | D54: Đức | E54: Chiếc | J54: 1
A55: g | B55: Khớp che bảo vệ , trong suốt 0.1/0.3kW | D55: Đức | E55: Chiếc | J55: 1
A56: h | B56: Bản hướng dẩn máy điện servo và những chỉ dẫn hoạt động | D56: Đức | E56: Chiếc | J56: 1
A57: i | B57: Bộ dây đo an toàn 23 sợi dùng đầu nối 4mm | D57: Đức | E57: Chiếc | J57: 1
A58: j | B58: Đầu nối an toàn 4mm, màu đen | D58: Đức | E58: Chiếc | J58: 20
A59: k | B59: Đầu nối an toàn 4mm, màu xanh dương | D59: Đức | E59: Chiếc | J59: 2
A60: l | B60: Đầu nối an toàn 4mm, màu xanh / vàng | D60: Đức | E60: Chiếc | J60: 2
... A64: 1.4.3 | B64: Máy tính để bàn | D64: Đức | E64: Bộ | J64: 1
A65: + | B65: Máy tính để bàn Dell Vostro 3669_42VT360010 Core i5 - 7400, chipset Intel® H110, bộ nhớ 4Gb Up to 16GB 2 DIMM Slots at DDR4 2400MHz, ổ quang DVDRW, slim ODD tray type 9.5mm, ổ cứng 500 Gb Màn hình: Dell P2217H Kích thước màn hình: 21.5Inch LED, Độ phân giải: Full HD (1920x1080), Cổng giao tiếp: 1 x DP (ver 1.2);1 x HDMI (ver 1.4);1 x VGA;3x USB 3.0 port, độ sáng 250cd/m2, tương phản 1.000:1 | D65: Đức
A66: 2 | B66: Bộ thực hành bộ khởi động mềm/trơn động cơ ba pha 300W | D66: Đức | E66: Bộ | J66: 1 | K66: 1.429157e+09 | L66: =K66*J66 -> 1.429157e+09
A67: + | B67: Nội dung thí nghiệm: | D67: Đức
A68: + | B68: Đưa hệ thống vào chế độ hoạt động | D68: Đức
A69: + | B69: Thiết lập các tham số của các chế năng tăng lên và giảm xuống ngẫu nhiên và điện áp khởi động | D69: Đức
A70: + | B70: Khảo sát dòng điện và điện áp trong suốt sự khởi động | D70: Đức
A71: + | B71: Khởi động với các loại tải khác nhau | D71: Đức
A72: + | B72: So sánh sự khởi động sao-tam giác | D72: Đức
A73: + | B73: Thiết bị bao gồm: | D73: Đức
A74: 2.1 | B74: Bộ thực hành bộ khởi động mềm/trơn động cơ ba pha 300W | D74: Đức | E74: Chiếc | J74: 1
A75: a | B75: Khởi động smooth dạng công nghiệp cho máy điện không đồng bộ 3 pha đến 1kW | D75: Đức | E75: Chiếc | J75: 1
A76: b | B76: Động cơ không đồng bộ 3 pha, 0.3kW N=1400 (230/400V) (công nghiệp) | D76: Đức | E76: Chiếc | J76: 1
A77: c | B77: Bộ chuyển đổi, 4 cực | D77: Đức | E77: Chiếc | J77: 1
A78: d | B78: Sự trợ giúp Lab: bộ khởi động trơn công nghiệp, bộ chuyển đổi tần số 0.3/1 kW | D78: Đức | E78: Chiếc | J78: 1
A79: e | B79: Bộ máy điện servo cho máy điện 0.3kW bao gồm phần mềm ActiveServo (D, GB, F, E) | D79: Đức | E79: Chiếc | J79: 1
A80: f | B80: Khớp nối cao su, 0.3kW | D80: Đức | E80: Chiếc | J80: 1
A81: g | B81: Khớp che bảo vệ , trong suốt 0.1/0.3kW | D81: Đức | J81: 1
A82: h | B82: Bản hướng dẩn máy điện servo và những chỉ dẫn hoạt động | D82: Đức | J82: 1
A83: i | B83: Nguồn công suất tổng quát cho nguồn DC và ba pha | D83: Đức | J83: 1
A84: j | B84: Đồng hồ do analog/digtal, công suất, hệ số công suất bao gồm phần mềm | D84: Đức | J84: 1
A85: k | B85: Bộ dây đo an toàn 31 sợi dùng đầu nối 4mm | D85: Đức | J85: 1
A86: l | B86: Đầu nối an toàn 4mm, màu đen | D86: Đức | J86: 20
A87: m | B87: Đầu nối an toàn 4mm, màu xanh dương | D87: Đức | J87: 2
A88: n | B88: Đầu nối an toàn 4mm, màu xanh / vàng | D88: Đức | J88: 2
A89: o | B89: Bộ chứa dây gắn tường hay khung nhôm, 30cm cho 50 sợi | D89: Đức | J89: 1
A90: p | B90: Bộ nguồn 3 pha AC đặt trên bàn thí nghiệm | D90: Đức | E90: Chiếc | J90: 1
A91: 2.2 | B91: Bàn khung nhôm 3 mức, 1250x750x1955mm | D91: Đức | E91: Chiếc | J91: 1
A92: 2.3 | B92: Máy tính để bàn | D92: Đức | E92: Bộ | J92: 1
A93: + | B93: Máy tính để bàn Dell Vostro 3669_42VT360010 Core i5 - 7400, chipset Intel® H110, bộ nhớ 4Gb Up to 16GB 2 DIMM Slots at DDR4 2400MHz, ổ quang DVDRW, slim ODD tray type 9.5mm, ổ cứng 500 Gb Màn hình: Dell P2217H Kích thước màn hình: 21.5Inch LED, Độ phân giải: Full HD (1920x1080), Cổng giao tiếp: 1 x DP (ver 1.2);1 x HDMI (ver 1.4);1 x VGA;3x USB 3.0 port, độ sáng 250cd/m2, tương phản 1.000:1 | D93: Đức
A94: 3 | B94: Bộ thực hành bộ chuyển đổi truyền động tần số 300W | D94: Đức | E94: Bộ | J94: 1 | K94: 1.3453501e+09 | L94: =K94*J94 -> 1.3453501e+09
A95: + | B95: Nội dung thí nghiệm: | D95: Đức
A96: + | B96: Hệ thống hoạt động với sự trợ giúp của máy tính | D96: Đức
A97: + | B97: Các chức năng cơ bản: | D97: Đức
A98: + | B98: Thiết lập điểm đặt, hướng quay, chức năng khởi động, tần số hoạt động, các giá trị giới hạn, điện áp định mức, dòng điện định mức, tần số định mưc, hệ số công suất định mưc.. | D98: Đức
A99: + | B99: Khảo sát đáp ứng hoạt động | D99: Đức
A100: + | B100: Đo giá trị công suất và rms | D100: Đức
A101: + | B101: Các thí nghiệm tải | D101: Đức
A102: + | B102: Ghi lại đặc tính tốc độ/mô men trong chế độ hoạt động động cơ (1/3 góc) | D102: Đức
A103: + | B103: Sự tối ưu đặc tính U/f | D103: Đức
A104: + | B104: Bù điện kháng stator | D104: Đức
...
