Workbook

Sheet TỔNG HỢP
A1: Dự toán đầu tư trường LLT Phase 2
A2: Năm 2018 | B2: Nghề Quản trị mạng | C2: ='Năm 2018'!L73 -> 13694050000
B3: Nghề Ô tô | C3: ='Năm 2018'!L202 -> 30202761000
B4: Nghề điện công nghiệp | C4: ='Năm 2018'!L360 -> 19947000000
A5: Tổng 2018 | C5: =SUM(C2:C4) -> 63843811000
A6: Năm 2019 | B6: Nghề ô tô | C6: ='Năm 2019'!M53 -> 22513165800
B7: Nghề Cơ khí | C7: ='Năm 2019'!M82 -> 26310362000
B8: Nghề Cơ điện tử | C8: ='Năm 2019'!M158 -> 2.1283692e+10
A9: Tổng năm 2019 | C9: =SUM(C6:C8) -> 7.0107219e+10
A10: Năm 2020 | B10: Nghề điện công nghiệp | C10: ='Năm 2020'!L161 -> 7.0081616e+09
B11: Nghề Ô tô | C11: ='Năm 2020'!L173 -> 17953000000
B12: Nghề Cơ khí | C12: ='Năm 2020'!L285 -> 2.0248201e+10
A13: Tổng năm 2020 | C13: =SUM(C10:C12) -> 4.5209362e+10
A14: Tổng | C14: =SUM(C5,C9,C13) -> 179160392700

Sheet Năm 2018
A1: UBND THÀNH PHỐ HỒ CHÍ MINH TRƯỜNG CAO ĐẲNG LÝ TỰ TRỌNG THÀNH PHỐ HỒ CHÍ MINH | J1: CỘNG HÒA XÃ HỘI CHỦ NGHĨA VIỆT NAM Độc lập - tự do - Hạnh phúc
A2: DANH MỤC THIẾT BỊ ĐỀ NGHỊ ĐẦU TƯ NĂM 2018
A3: STT | B3: Danh mục thiết bị | C3: Model | D3: Xuất xứ | E3: ĐVT | F3: Sử dụng giảng dạy chung (Đánh dấu X) | G3: SL yêu cầu để đáp ứng quy mô đào tạo hiện tại | H3: Số lượng thiết bị hiện tại | I3: Đánh giá việc đáp ứng theo quy mô đào tạo tại thời điểm báo cáo (Đủ ghi: X; không đủ: 0) | J3: Số lượng | K3: Đơn giá | L3: Thành tiền | M3: Thuyết minh
A4: -1 | B4: -2 | C4: -3 | D4: -4 | E4: -5 | F4: -6 | G4: -7 | H4: -8 | I4: -9 | J4: (10)=(7)-(8) | K4: -11 | L4: -12 | M4: -13
A5: DANH MỤC THIẾT BỊ NGHỀ QUẢN TRỊ MẠNG MÁY TÍNH
A6: 1 | B6: Firewall Cisco | C6: ASA5525-K9 | D6: Châu á | E6: cái | H6: 0 | J6: 10 | K6: 206885000 | L6: =K6*J6 -> 2068850000
B7: ASA 5525-X with SW, 8GE Data, 1GE Mgmt, AC, 3DES/AES
B8: SNTC-8X5XNBD ASA 5525-X with SW,
B9: AC Power Cord (Europe), C13, CEE 7, 1.5M
B10: Cisco ASA 9.8.2 Software image for ASA Spyker/Saleen
B11: ASA 5525-X Interface Card Blank Slot Cover
B12: ASA 5512-X -- 5555-X Hard Drive Blank Slot Cover
B13: ASA 5525 IPS Part Number with which PCB Serial is associated
B14: ASA 5500 Strong Encryption License (3DES/AES)
A15: 2 | B15: ROUTER CISCO | C15: ISR4331-V/K9 | D15: Châu á | E15: cái | H15: 0 | J15: 10 | K15: 115000000 | L15: =K15*J15 -> 1150000000
B16: Cisco ISR 4331 UC Bundle, PVDM4-32, UC License, CUBEE10
B17: SNTC-8X5XNBD Cisco ISR 4331 UC Bundle, PVDM4-32, UC L
B18: IP Base License for Cisco ISR 4330 Series
B19: Unified Communication License for Cisco ISR 4330 Series
B20: AC Power Supply for Cisco ISR 4330
B21: AC Power Cord (Europe), C13, CEE 7, 1.5M
B22: 32-channel DSP module
B23: 4G Flash Memory for Cisco ISR 4300 (Soldered on motherboard)
B24: 4G DRAM (1 x 4G) for Cisco ISR 4300
B25: Blank faceplate for NIM slot on Cisco ISR 4400
B26: Unified Border Element Enterprise License - 5 sessions
B27: SWSS UPGRADES Unified Border Element Enterprise Licens
... B29: Cisco ISR 4300 Series IOS XE Universal
A30: 3 | B30: ROUTER CISCO - Hiệu suất cao | C30: ASR1002-X | D30: Châu á | E30: cái | H30: 0 | J30: 4 | K30: 770000000 | L30: =K30*J30 -> 3080000000
B31: Cisco ASR1002-X Chassis, 6 built-in GE, Dual P/S, 4GB DRAM
B32: ASR1K-other applications for Enterprise or SP- Tracking only
B33: Cisco ASR 1000 Advanced IP Services License
B34: Cisco ASR1002-X 4GB DRAM
B35: Blank Cover for regular SPA
B36: Blank Cover for ASR1002-X HDD
B37: Cisco ASR1002-X IOS XE UNIVERSAL
B38: Cisco ASR1002 AC Power Supply
B39: Power Cord Europe, Right Angle
A40: 4 | B40: Switch CISCO | C40: WS-C2960X-24TS-L | D40: Châu á | E40: cái | H40: 0 | J40: 10 | K40: 55085000 | L40: =K40*J40 -> 550850000
B41: Catalyst 2960-X 24 GigE, 4 x 1G SFP, LAN Base
...

Sheet Năm 2019
A1: UBND THÀNH PHỐ HỒ CHÍ MINH TRƯỜNG CAO ĐẲNG LÝ TỰ TRỌNG THÀNH PHỐ HỒ CHÍ MINH | K1: CỘNG HÒA XÃ HỘI CHỦ NGHĨA VIỆT NAM Độc lập - tự do - Hạnh phúc
A2: DANH MỤC THIẾT BỊ ĐỀ NGHỊ ĐẦU TƯ NĂM 2019
A3: TT | B3: Danh mục thiết bị | C3: Model | D3: Xuất xứ | E3: ĐVT | F3: Sử dụng giảng dạy chung (Đánh dấu X) | G3: SL yêu cầu để đáp ứng quy mô đào tạo hiện tại | H3: Số lượng thiết bị hiện tại | I3: SL yêu cầu để đáp ứng quy mô đào tạo hiện tại | J3: Đánh giá việc đáp ứng theo quy mô đào tạo tại thời điểm báo cáo (Đủ ghi: X; không đủ: 0) | K3: Số lượng | L3: Đơn giá | M3: Thành tiền | N3: Thuyết minh
A4: -1 | B4: -2 | C4: -3 | D4: -4 | E4: -5 | F4: -6 | G4: -7 | H4: -8 | I4: -7 | J4: -9 | K4: (10)=(7)-(8) | L4: -11 | M4: -12 | N4: -13
A5: NGHỀ Ô TÔ
B6: PHÒNG CHẨN ĐOÁN SỬA CHỮA ĐỘNG CƠ XĂNG DẦU | M6: =SUM(M7:M52) -> 22513165800
A7: 1 | B7: Động cơ phun xăng điện tử đa điểm, sử dụng cảm biến dây nhiệt, hoạt động | D7: VN | E7: Cái | K7: 2 | L7: 271856200 | M7: =K7*L7 -> 543712400
A8: 2 | B8: Động cơ phun xăng trực tiếp - Động cơ xăng dùng thực tập tháo lắp, có giá tháo lắp năm 2012 | D8: VN | E8: Cái | K8: 2 | L8: 2.058562e+08 | M8: =K8*L8 -> 4.117124e+08
A9: 3 | B9: Mô hình điều khiển động cơ Toyota 2.0L I4 1TR-FE VVT-I. đời 2010 mô hình kèm theo hộp số | D9: VN | E9: MH | K9: 2 | L9: 298570800 | M9: =K9*L9 -> 597141600
A10: 4 | B10: Mô hình điều khiển động cơ Huydai Santafe đời 2009 mô hình kèm theo hộp số | D10: VN | E10: MH | K10: 2 | L10: 3.928562e+08 | M10: =K10*L10 -> 7.857124e+08
A11: 5 | B11: Máy nén khí 5.5Hp/500L | E11: Cái | K11: 1 | L11: 120000000 | M11: =K11*L11 -> 120000000
A12: 6 | B12: Máy phân tích, kiểm tra, chẩn đoán động cơ tổng hợp | C12: LM8264E | D12: Đức | E12: Cái | K12: 2 | L12: 640000000 | M12: =K12*L12 -> 1280000000
A13: 7 | B13: Bộ thực hành đo lường cơ điện xưởng cơ khí ô tô, có bổ sung các thiết bị đo nhiệt độ, độ rung, áp suất..cầm tay | D13: EU | E13: Bộ | K13: 1 | L13: 3280000000 | M13: =K13*L13 -> 3280000000
A14: 8 | B14: Thiết bị kiểm tra và phân tích khí xả động cơ xăng | D14: HQ | E14: Bộ | K14: 2 | L14: 90000000 | M14: =K14*L14 -> 180000000
A15: 9 | B15: Mô hình hệ thống điện ôtô đời mới kiểu Toyota Innova. | D15: VN | E15: MH | K15: 2 | L15: 245000000 | M15: =K15*L15 -> 490000000
A16: 10 | B16: Thiết bị đào tạo vận hành, chẩn đoán động cơ Diesel 4 xylanh dùng bơm PE , họat động tốt ở các chế độ, sử dụng bơm PE | D16: VN | E16: MH | K16: 2 | L16: 116800000 | M16: =K16*L16 -> 233600000
A17: 11 | B17: Thiết bị đào tạo vận hành, chẩn đoán động cơ Diesel 4 xylanh dùng bơm VE kèm theo hộp số | D17: VN | E17: MH | K17: 2 | L17: 1.155e+08 | M17: =K17*L17 -> 2.31e+08
A18: 12 | B18: Tủ dụng cụ và dụng cụ sửa chữa. | D18: Đức | E18: Cái | K18: 8 | L18: 85000000 | M18: =K18*L18 -> 680000000
A19: 13 | B19: Mô phỏng hệ thống động cơ phun xăng điện tử kết nối máy tính. CarTrain Direct Fuel Injection. | C19: CO3221-6G | D19: Đức | E19: Bộ | K19: 1 | L19: 4230000000 | M19: =K19*L19 -> 4230000000
A20: 14 | B20: Mô hình động cơ Hybird | C20: CO3221-6K | D20: Đức | E20: MH | K20: 1 | L20: 4196000000 | M20: =K20*L20 -> 4196000000
A21: 15 | B21: Hệ thống thiết bị thí nghiệm về động cơ diezen, CarTrain Common Rail. | C21: CO3221-6E | D21: Đức | E21: HT | K21: 1 | L21: 3945000000 | M21: =K21*L21 -> 3945000000
A22: 16 | B22: Thí nghiệm về động cơ phun xăng | D22: VN | E22: HT | K22: 4 | L22: 98000000 | M22: =K22*L22 -> 392000000
A23: 17 | B23: Dụng cụ lắp séc măng 3", Kích thước :70-100mm | E23: Cái | K23: 5 | L23: 10098000 | M23: =L23*K23 -> 50490000
A24: 18 | B24: Dụng cụ lắp séc măng 6", Kích thước :90-175mm | E24: Cái | K24: 5 | L24: 3677000 | M24: =L24*K24 -> 18385000
A25: 19 | B25: Dụng cụ tháo séc măng, kích thước 50-100mm | E25: Cái | K25: 5 | L25: 3073000 | M25: =L25*K25 -> 15365000
A26: 20 | B26: Dụng cụ ép lo xo supap xupap | E26: Cái | K26: 5 | L26: 7683000 | M26: =L26*K26 -> 38415000
A27: 21 | B27: Dụng cụ tháo móng gài xupap ở trên không cần tháo nắp máy | E27: Cái | K27: 2 | L27: 6951000 | M27: =L27*K27 -> 13902000
A28: 22 | B28: Dụng cụ tháo lọc nhớt | E28: Cái | K28: 5 | L28: 3512000 | M28: =L28*K28 -> 17560000
A29: 23 | B29: Dụng cụ Làm sạch chân bình điện | E29: Cái | K29: 2 | L29: 1463000 | M29: =L29*K29 -> 2926000
A30: 24 | B30: Dụng cụ taro lại ren Bugi | E30: Cái | K30: 2 | L30: 27879000 | M30: =L30*K30 -> 55758000
A31: 25 | B31: Bộ tuýp tháo Bugi chuyên dùng, đường kính : 21mm +16mm, bao gồm 2 chi tiết | E31: Cái | K31: 2 | L31: 732000 | M31: =L31*K31 -> 1464000
A32: 26 | B32: Dụng cụ đo lực căng dây đai. | E32: Cái | K32: 2 | L32: 9931000 | M32: =L32*K32 -> 19862000
A33: 27 | B33: Bộ cảo chén đa năng | E33: Cái | K33: 2 | L33: 5415000 | M33: =L33*K33 -> 10830000
A34: 28 | B34: Dụng cụ cảo Ắc Piston | E34: Cái | K34: 2 | L34: 6720000 | M34: =L34*K34 -> 13440000
... A52: 46 | B52: Đồng hồ đo điện vạn năng dạng điện tử | E52: Cái | K52: 10 | L52: 13380000 | M52: =L52*K52 -> 133800000
A53: TỔNG CỘNG | M53: =SUM(M7:M52) -> 22513165800
A54: CƠ KHÍ CHẾ TẠO - PHÒNG THỰC HÀNH PHAY
A55: I | B55: MÁY CÔNG CỤ
A56: 1 | B56: Máy phay vạn năng FB3 | C56: FB-3 L | D56: EU | E56: Máy | K56: 2 | L56: 4080000000 | M56: =L56*K56 -> 8160000000
A57: 3 | B57: Máy phay CNC 3 trục Concept Mill | C57: CM 55 | D57: EU | E57: máy | K57: 1 | L57: 3865000000 | M57: =L57*K57 -> 3865000000
...

Sheet Năm 2020
A1: UBND THÀNH PHỐ HỒ CHÍ MINH TRƯỜNG CAO ĐẲNG LÝ TỰ TRỌNG THÀNH PHỐ HỒ CHÍ MINH | J1: CỘNG HÒA XÃ HỘI CHỦ NGHĨA VIỆT NAM Độc lập - tự do - Hạnh phúc
A2: DANH MỤC THIẾT BỊ ĐỀ NGHỊ ĐẦU TƯ NĂM 2020
A4: TT | B4: Danh mục thiết bị | C4: Model | D4: Xuất xứ | E4: ĐVT | F4: Sử dụng giảng dạy chung (Đánh dấu X) | G4: SL yêu cầu để đáp ứng quy mô đào tạo hiện tại | H4: Số lượng thiết bị hiện tại | I4: Đánh giá việc đáp ứng theo quy mô đào tạo tại thời điểm báo cáo (Đủ ghi: X; không đủ: 0) | J4: Số lượng | K4: Đơn giá | L4: Thành tiền | M4: Thuyết minh
A5: -1 | B5: -2 | C5: -3 | D5: -4 | E5: -5 | F5: -6 | G5: -7 | H5: -8 | I5: -9 | J5: (10)=(7)-(8) | K5: -11 | L5: -12 | M5: -13
A6: DANH MỤC THIẾT BỊ ĐIỆN CÔNG NGHIỆP
A7: 1 | B7: Bộ chuyển đổi truyền động điện tần số với các loại động cơ 300W khác nhau | D7: Đức | E7: Bộ | J7: 1 | K7: 2.287883e+09 | L7: =K7*J7 -> 2.287883e+09
A8: 1.1 | B8: Bộ chuyển đổi truyền động điện tần số với động cơ không đồng bộ ba pha 300W | D8: Đức | J8: 1
A9: + | B9: Mục tiêu đào tạo:
A10: + | B10: Khảo sát bộ nghịch đảo với điều khiển tần số và điện áp | D10: Đức
A11: + | B11: Khảo sát bộ nghịch đảo với sự biến điệu vec tơ không gian | D11: Đức
A12: + | B12: Phân tích tỉ lệ tần số và điện áp | D12: Đức
A13: + | B13: Bù điện kháng phần tĩnh | D13: Đức
A14: + | B14: Khảo sát truyền động nghịch đảo | D14: Đức
A15: + | B15: Thiết lập các tham số có sự trợ giúp của máy tính và hình ảnh động | D15: Đức
A16: + | B16: Thiết bị bao gồm: | D16: Đức
A17: a | B17: Động cơ không đồng bộ 3 pha, 0.3kW N=1400 (230/400V) (công nghiệp) | D17: Đức | E17: Chiếc | J17: 1
A18: b | B18: Phần mềm trợ giúp tương tác: Bộ chuyển đổi truyền động tần số | D18: Đức | E18: License | J18: 1
A19: 1.2 | B19: Bộ truyền động điện Servo, động cơ chuyển đổi điện tử 300W | D19: Đức | J19: 1
A20: + | B20: Mục tiêu đào tạo: | D20: Đức
A21: + | B21: Nguyên lý hoạt động của các động cơ servo với sự chuyển mạch điện tử hoặc các động cơ DC chổi than | D21: Đức
A22: + | B22: Phân tích sự biến điệu vector không gian đã được định hướng | D22: Đức
A23: + | B23: Khảo sát hệ thống cảm biến và tọa độ | D23: Đức
A24: + | B24: Thiết lập các tham số với sự trợ giúp của máy tính và các hình ảnh động | D24: Đức
A25: + | B25: Thiết bị bao gồm như sau: | D25: Đức
A26: a | B26: Động cơ servomotor đồng bộ 0.3kW | D26: Đức | E26: Chiếc | J26: 1
A27: b | B27: Bộ encoder vị trí tăng dần 1024 xung | D27: Đức | E27: Chiếc | J27: 1
A28: c | B28: Khớp che bảo vệ , trong suốt 0.1/0.3kW | D28: Đức | E28: Chiếc | J28: 1
A29: d | B29: Khớp nối cao su, 0.3kW | D29: Đức | E29: Chiếc | J29: 1
A30: e | B30: Phần mềm trợ giúp tương tác: động cơ servo, động cơ chuyển mạch điện tử | D30: Đức | E30: License | J30: 1
A31: 1.3 | B31: Bộ chuyển đổi truyền động điện động cơ DC 300W với bộ nghịch lưu | D31: Đức | J31: 1
A32: + | B32: Mục tiêu đào tạo: | D32: Đức
A33: + | B33: Điều khiển tốc độ vòng kín trong sự hoạt động 1 và 4 góc có và không có điều khiển dòng điện tầng | D33: Đức
A34: + | B34: Điều khiển tốc độ vòng hở trong chế độ hoạt động 1 góc với IGBT | D34: Đức
A35: + | B35: Điều khiển tốc độ vòng hở trong chế độ hoạt động 4 góc với IGBT | D35: Đức
A36: + | B36: Điều khiển tốc độ vòng kín, điều khiển dòng điện vòng kín, điều khiển tầng, điều khiển thích nghi | D36: Đức
A37: + | B37: Hệ thống được điều khiển và sự phân tích bộ điều khiển, thiết lập tham số với sự trợ giúp của máy tính | D37: Đức
A38: + | B38: Điều khiển P-, PI | D38: Đức
A39: + | B39: Sự tối ưu hóa bộ điều khiển | D39: Đức
A40: + | B40: Thiết bị bao gồm | D40: Đức
A41: a | B41: Máy điện DC đa mạch, kích từ hỗn hợp, 0.3kW (công nghiệp) | D41: Đức | E41: Chiếc | J41: 1
...
